BEGIN:VCALENDAR
VERSION:2.0
PRODID:-//Second Harvest Food Bank of Central Florida - ECPv6.15.17.1//NONSGML v1.0//EN
CALSCALE:GREGORIAN
METHOD:PUBLISH
X-WR-CALNAME:Second Harvest Food Bank of Central Florida
X-ORIGINAL-URL:https://feedhopenow.org
X-WR-CALDESC:Events for Second Harvest Food Bank of Central Florida
REFRESH-INTERVAL;VALUE=DURATION:PT1H
X-Robots-Tag:noindex
X-PUBLISHED-TTL:PT1H
BEGIN:VTIMEZONE
TZID:America/New_York
BEGIN:DAYLIGHT
TZOFFSETFROM:-0500
TZOFFSETTO:-0400
TZNAME:EDT
DTSTART:20240310T070000
END:DAYLIGHT
BEGIN:STANDARD
TZOFFSETFROM:-0400
TZOFFSETTO:-0500
TZNAME:EST
DTSTART:20241103T060000
END:STANDARD
BEGIN:DAYLIGHT
TZOFFSETFROM:-0500
TZOFFSETTO:-0400
TZNAME:EDT
DTSTART:20250309T070000
END:DAYLIGHT
BEGIN:STANDARD
TZOFFSETFROM:-0400
TZOFFSETTO:-0500
TZNAME:EST
DTSTART:20251102T060000
END:STANDARD
BEGIN:DAYLIGHT
TZOFFSETFROM:-0500
TZOFFSETTO:-0400
TZNAME:EDT
DTSTART:20260308T070000
END:DAYLIGHT
BEGIN:STANDARD
TZOFFSETFROM:-0400
TZOFFSETTO:-0500
TZNAME:EST
DTSTART:20261101T060000
END:STANDARD
END:VTIMEZONE
BEGIN:VEVENT
DTSTART;TZID=America/New_York:20250907T080000
DTEND;TZID=America/New_York:20250907T170000
DTSTAMP:20260424T035051
CREATED:20250818T204649Z
LAST-MODIFIED:20250818T204649Z
UID:1036-1757232000-1757264400@feedhopenow.org
SUMMARY:#FeedHopeNow
DESCRIPTION:Follow Second Harvest Food Bank on Instagram at @feedhopenow\, and Instagram a photo using the hashtag #feedhopenow to raise awareness of Hunger Action Month!
URL:https://feedhopenow.org/calendar/feedhopenow/
CATEGORIES:Hunger Action Month
ATTACH;FMTTYPE=image/jpeg:https://feedhopenow.org/wp-content/uploads/2025/08/Calendar-Event-Default.jpg
END:VEVENT
BEGIN:VEVENT
DTSTART;TZID=America/New_York:20250906T000000
DTEND;TZID=America/New_York:20250906T235900
DTSTAMP:20260424T035051
CREATED:20250818T193532Z
LAST-MODIFIED:20250902T191716Z
UID:1028-1757116800-1757203140@feedhopenow.org
SUMMARY:Put on your running shoes to fight hunger!
DESCRIPTION:Do you have an appetite for helping others? Join Team Second Harvest Food Bank for the 2025 Disney Wine & Dine Half Marathon weekend and help fight hunger and feed hope on behalf of our neighbors in need with every stride. \n\n2025 Disney Wine & Dine Half Marathon Weekend – 5K\nFriday\, October 24\, 2025\n$1\,000 fundraising commitment provides 3\,000 meals\n2025 Disney Wine & Dine Half Marathon Weekend – 10K\nSaturday\, October 25\, 2025\n$1\,250 fundraising commitment provides 4\,000 meals\n2025 Disney Wine & Dine Half Marathon Weekend – Half Marathon\nSunday\, October 26\, 2025\n$1\,500 fundraising commitment provides 5\,000 meals\n\nTo reserve your racing spot today\, please e-mail\nVeronica J. Mucha\nvjmucha@feedhopenow.org \nTeam Second Harvest is looking for volunteers on race weekend. Reach out to ksutton@FeedHopeNow.org to learn more on how you can volunteer race weekend. \n  \nClick here to learn more
URL:https://feedhopenow.org/calendar/put-on-your-running-shoes-to-fight-hunger/
LOCATION:Second Harvest Food Bank of Central Florida\, 411 Mercy Drive\, Orlando\, FL\, 32805\, United States
CATEGORIES:Hunger Action Month
ATTACH;FMTTYPE=image/jpeg:https://feedhopenow.org/wp-content/uploads/2025/08/RunDisney.jpg
END:VEVENT
BEGIN:VEVENT
DTSTART;TZID=America/New_York:20250905T000000
DTEND;TZID=America/New_York:20250905T235900
DTSTAMP:20260424T035051
CREATED:20250818T202821Z
LAST-MODIFIED:20250821T130026Z
UID:1032-1757030400-1757116740@feedhopenow.org
SUMMARY:Celebrate National Food Bank Day with a Virtual Food Drive
DESCRIPTION:See how much your team can raise throughout the month of September through Second Harvest’s Virtual Food Drive! \n 
URL:https://feedhopenow.org/calendar/celebrate-national-food-bank-day-with-a-virtual-food-drive/
CATEGORIES:Hunger Action Month
ATTACH;FMTTYPE=image/jpeg:https://feedhopenow.org/wp-content/uploads/2025/08/Calendar-Event-Default.jpg
END:VEVENT
BEGIN:VEVENT
DTSTART;TZID=America/New_York:20250904T000000
DTEND;TZID=America/New_York:20250904T235900
DTSTAMP:20260424T035051
CREATED:20250820T171816Z
LAST-MODIFIED:20250821T134349Z
UID:1031-1756944000-1757030340@feedhopenow.org
SUMMARY:Young Professionals Fighting Hunger Together
DESCRIPTION:Looking for a way to grow your career while making a real impact in the fight against hunger? Join Second Harvest Food Bank’s Young Professionals group; a network of passionate changemakers ages 21–40 committed to fighting hunger through volunteering\, fundraising\, and advocacy. Members build leadership skills\, connect with like-minded peers\, and support Central Florida families facing food insecurity. \nClick here to learn more
URL:https://feedhopenow.org/calendar/young-professionals-fighting-hunger-together/
CATEGORIES:Hunger Action Month
ATTACH;FMTTYPE=image/jpeg:https://feedhopenow.org/wp-content/uploads/2025/08/YP-group-photo.jpg
END:VEVENT
BEGIN:VEVENT
DTSTART;TZID=America/New_York:20250902T000000
DTEND;TZID=America/New_York:20250902T235900
DTSTAMP:20260424T035051
CREATED:20250818T192711Z
LAST-MODIFIED:20250818T205653Z
UID:1027-1756771200-1756857540@feedhopenow.org
SUMMARY:Turn Orange for Hunger Relief
DESCRIPTION:Update your Facebook Profile/Cover Photos to help spread the news of Hunger Action Month!
URL:https://feedhopenow.org/calendar/donate-30-food-items-one-for-every-day-of-hunger-action-month/
CATEGORIES:Hunger Action Month
ATTACH;FMTTYPE=image/jpeg:https://feedhopenow.org/wp-content/uploads/2025/08/Calendar-Event-Default.jpg
END:VEVENT
BEGIN:VEVENT
DTSTART;TZID=America/New_York:20250901T080000
DTEND;TZID=America/New_York:20250901T160000
DTSTAMP:20260424T035051
CREATED:20250818T192621Z
LAST-MODIFIED:20250819T135938Z
UID:1026-1756713600-1756742400@feedhopenow.org
SUMMARY:Hunger Action Month Food Donation Challenge
DESCRIPTION:September is Hunger Action Month and we’re kicking it off with purpose\, passion\, and a challenge for you! Every day this month\, join Second Harvest Food Bank of Central Florida in taking a stand against hunger by donating one food item each day; that’s 30 items for 30 days of action.
URL:https://feedhopenow.org/calendar/hunger-action-month-food-donation-challenge/
LOCATION:Second Harvest Food Bank of Central Florida\, 411 Mercy Drive\, Orlando\, FL\, 32805\, United States
CATEGORIES:Hunger Action Month
ATTACH;FMTTYPE=image/jpeg:https://feedhopenow.org/wp-content/uploads/2025/08/HAM-2025.jpg
END:VEVENT
END:VCALENDAR